View In:
ArcGIS JavaScript
ArcGIS Online Map Viewer
ArcGIS Earth
Service Description: Maine Statewide Orthoimagery Project - All imagery was collected during the 2019 Spring flying season during leaf-off conditions for deciduous vegetation in the State of Maine. The sun angle was at 30-degrees or greater, and streams were within their normal banks. During the flight planning and acquisition, a significant effort was made to limit clouds, snow, fog, haze, smoke, or other ground obscuring conditions in the imagery. In no case does the maximum cloud cover exceed 5% per image. Within the immediate areas of power plants, factories, or controlled agricultural burns some steam or smoke and/or shadows may be visible on imagery. Deliverables are: • One hard copy and one digital copy of the Project plan • One hard copy and one digital copy of the Flight Plan/Control Diagram/Sheet Index • One hard copy and one digital copy of the Survey Report • One hard copy and one digital copy of the Aerial Photography Report • One hard copy and one digital copy of the Aerial Triangulation Report • One digital copy of each 4-Band Digital orthoimagery files in GeoTIFF format with TFW “world file”, delivered on external USB hard drive • FGDC complaint Metadata delivered (along with the orthoimagery) on external hard drive Additional deliverables include three MrSID (Multi resolution Seamless Image Database) files covering Biddeford, Freeport, and Thomaston area at an 18:1 compression ratio.
Name: Orthophotos/Orthophotos_2019
Description: Maine Statewide Orthoimagery Project - All imagery was collected during the 2019 Spring flying season during leaf-off conditions for deciduous vegetation in the State of Maine. The sun angle was at 30-degrees or greater, and streams were within their normal banks. During the flight planning and acquisition, a significant effort was made to limit clouds, snow, fog, haze, smoke, or other ground obscuring conditions in the imagery. In no case does the maximum cloud cover exceed 5% per image. Within the immediate areas of power plants, factories, or controlled agricultural burns some steam or smoke and/or shadows may be visible on imagery. Deliverables are: • One hard copy and one digital copy of the Project plan • One hard copy and one digital copy of the Flight Plan/Control Diagram/Sheet Index • One hard copy and one digital copy of the Survey Report • One hard copy and one digital copy of the Aerial Photography Report • One hard copy and one digital copy of the Aerial Triangulation Report • One digital copy of each 4-Band Digital orthoimagery files in GeoTIFF format with TFW “world file”, delivered on external USB hard drive • FGDC complaint Metadata delivered (along with the orthoimagery) on external hard drive Additional deliverables include three MrSID (Multi resolution Seamless Image Database) files covering Biddeford, Freeport, and Thomaston area at an 18:1 compression ratio.
Single Fused Map Cache: true
Tile Info:
- Height: 256
- Width: 256
- DPI: 96
-
Levels of Detail: 24
-
Level ID: 1
[ Start Tile, End Tile ]
- Resolution: 78271.5169639999
- Scale: 2.95828763795777E8
-
Level ID: 2
[ Start Tile, End Tile ]
- Resolution: 39135.7584820001
- Scale: 1.47914381897889E8
-
Level ID: 3
[ Start Tile, End Tile ]
- Resolution: 19567.8792409999
- Scale: 7.3957190948944E7
-
Level ID: 4
[ Start Tile, End Tile ]
- Resolution: 9783.93962049996
- Scale: 3.6978595474472E7
-
Level ID: 5
[ Start Tile, End Tile ]
- Resolution: 4891.96981024998
- Scale: 1.8489297737236E7
- Format: MIXED
- Compression Quality: 75.0
- LERC Error: NaN
- Origin: X: -2.0037508342787E7
Y: 2.0037508342787E7
- Spatial Reference: 102100
(3857)
LatestVCSWkid(0)
Storage Info:
- Storage Format: esriMapCacheStorageModeCompactV2
- Packet Size: 128
Extent:
XMin: -7665374.285499999
YMin: 5585845.818600004
XMax: -7649514.8604999995
YMax: 5603322.243600003
Spatial Reference: 102100
(3857)
LatestVCSWkid(0)
Initial Extent:
XMin: -7665374.285499999
YMin: 5585845.818600004
XMax: -7649514.8604999995
YMax: 5603322.243600003
Spatial Reference: 102100
(3857)
LatestVCSWkid(0)
Full Extent:
XMin: -7665374.285499999
YMin: 5585845.818600004
XMax: -7649514.8604999995
YMax: 5603322.243600003
Spatial Reference: 102100
(3857)
LatestVCSWkid(0)
Pixel Size X: 0.07499999999999912
Pixel Size Y: 0.0749999999999992
Band Count: 4
Pixel Type: U8
RasterFunction Infos: {"rasterFunctionInfos": [
{
"name": "Orthos_NoStretch_1.0Gamma",
"description": "Orthophoto symbology with no stretch, and gamma set to 1.0 for all colors.",
"help": ""
},
{
"name": "None",
"description": "",
"help": ""
}
]}
Mensuration Capabilities: None
Inspection Capabilities:
Has Histograms: true
Has Colormap: false
Has Multi Dimensions : false
Rendering Rule:
Min Scale: 9244648.868618
Max Scale: 564.248588
Min LOD: 6
Max LOD: 20
Copyright Text: City of Bangor, Maine GeoLibrary
Service Data Type: esriImageServiceDataTypeGeneric
Min Values: 3, 5, 15, 0
Max Values: 240, 241, 236, 230
Mean Values: 72.04654546945144, 75.67151592165213, 65.24254609798197, 106.12414448019952
Standard Deviation Values: 32.37490582141743, 30.50943410338581, 28.68023419227356, 35.52749584006939
Object ID Field: OBJECTID
Fields:
-
OBJECTID
(
type: esriFieldTypeOID, alias: OBJECTID
)
-
Shape
(
type: esriFieldTypeGeometry, alias: Shape
)
-
Name
(
type: esriFieldTypeString, alias: Name, length: 200
)
-
MinPS
(
type: esriFieldTypeDouble, alias: MinPS
)
-
MaxPS
(
type: esriFieldTypeDouble, alias: MaxPS
)
-
LowPS
(
type: esriFieldTypeDouble, alias: LowPS
)
-
HighPS
(
type: esriFieldTypeDouble, alias: HighPS
)
-
Category
(
type: esriFieldTypeInteger, alias: Category
, Coded Values:
[0: Unknown]
, [1: Primary]
, [2: Overview]
, ...6 more...
)
-
Tag
(
type: esriFieldTypeString, alias: Tag, length: 100
)
-
GroupName
(
type: esriFieldTypeString, alias: GroupName, length: 100
)
-
ProductName
(
type: esriFieldTypeString, alias: ProductName, length: 100
)
-
CenterX
(
type: esriFieldTypeDouble, alias: CenterX
)
-
CenterY
(
type: esriFieldTypeDouble, alias: CenterY
)
-
ZOrder
(
type: esriFieldTypeInteger, alias: ZOrder
)
-
Shape_Length
(
type: esriFieldTypeDouble, alias: Shape_Length
)
-
Shape_Area
(
type: esriFieldTypeDouble, alias: Shape_Area
)
Default Mosaic Method: Northwest
Allowed Mosaic Methods: NorthWest,Center,LockRaster,ByAttribute,Nadir,Viewpoint,Seamline,None
SortField:
SortValue: null
Mosaic Operator: First
Default Compression Quality: 75
Default Resampling Method: Bicubic
Max Record Count: 1000
Max Image Height: 4100
Max Image Width: 15000
Max Download Image Count: 20
Max Mosaic Image Count: 20
Allow Raster Function: true
Allow Copy: true
Allow Analysis: false
Allow Compute TiePoints: false
Supports Statistics: true
Supports Advanced Queries: true
Use StandardizedQueries: true
Raster Type Infos:
Name: Raster Dataset
Description: Supports all ArcGIS Raster Datasets
Help:
Has Raster Attribute Table: false
Edit Fields Info: null
Ownership Based AccessControl For Rasters: null
Child Resources:
Info
Histograms
Statistics
Key Properties
Legend
Raster Function Infos
Supported Operations:
Export Image
Query
Identify
Download Rasters
Get Image Url
Compute Histograms
Compute Statistics Histograms
Get Samples
Compute Class Statistics
Query GPS Info
Find Images
Image to Map
Map to Image
Measure from Image
Image to Map Multiray
Query Boundary
Compute Pixel Location
Compute Angles
Validate
Project
EstimateExportTilesSize
ExportTiles